BEGIN:VCALENDAR
VERSION:2.0
PRODID:-//Community Gardens Australia - ECPv6.15.17.1//NONSGML v1.0//EN
CALSCALE:GREGORIAN
METHOD:PUBLISH
X-WR-CALNAME:Community Gardens Australia
X-ORIGINAL-URL:https://communitygarden.org.au
X-WR-CALDESC:Events for Community Gardens Australia
REFRESH-INTERVAL;VALUE=DURATION:PT1H
X-Robots-Tag:noindex
X-PUBLISHED-TTL:PT1H
BEGIN:VTIMEZONE
TZID:Australia/Melbourne
BEGIN:STANDARD
TZOFFSETFROM:+1100
TZOFFSETTO:+1000
TZNAME:AEST
DTSTART:20240406T160000
END:STANDARD
BEGIN:DAYLIGHT
TZOFFSETFROM:+1000
TZOFFSETTO:+1100
TZNAME:AEDT
DTSTART:20241005T160000
END:DAYLIGHT
BEGIN:STANDARD
TZOFFSETFROM:+1100
TZOFFSETTO:+1000
TZNAME:AEST
DTSTART:20250405T160000
END:STANDARD
BEGIN:DAYLIGHT
TZOFFSETFROM:+1000
TZOFFSETTO:+1100
TZNAME:AEDT
DTSTART:20251004T160000
END:DAYLIGHT
BEGIN:STANDARD
TZOFFSETFROM:+1100
TZOFFSETTO:+1000
TZNAME:AEST
DTSTART:20260404T160000
END:STANDARD
BEGIN:DAYLIGHT
TZOFFSETFROM:+1000
TZOFFSETTO:+1100
TZNAME:AEDT
DTSTART:20261003T160000
END:DAYLIGHT
END:VTIMEZONE
BEGIN:VEVENT
DTSTART;TZID=Australia/Melbourne:20251129T150000
DTEND;TZID=Australia/Melbourne:20251129T190000
DTSTAMP:20260424T022747
CREATED:20251104T121448Z
LAST-MODIFIED:20251104T121451Z
UID:10000010-1764428400-1764442800@communitygarden.org.au
SUMMARY:Vespertine Gardens Launch Party
DESCRIPTION:Vespertine Gardens Launch Party 🌱🎶 \n\n\n\nLet’s celebrate the opening of Vespertine Gardens. A newly established urban community garden.  \n\n\n\nA project led by Dandenong West community and located in the westside of Dandenong’s CBD. \n\n\n\nFeaturing: \n\n\n\n* Free No Food Waste workshops by Open Table  \n\n\n\n* Live music by local artists BJ Morriszonkle & Nero Friktschn Feuerherdt  \n\n\n\n* Roaming performance by Snuff Puppets \n\n\n\n* Story telling with Sand and Light projection by artist Anke MacLean \n\n\n\nGood food\, plant life and creativity.  \n\n\n\nFree event and all welcome.  \n\n\n\nhttps://facebook.com/events/s/vespertine-gardens-launch-part/1543326257092142
URL:https://communitygarden.org.au/event/vespertine-gardens-launch-party/
LOCATION:Vespertine Gardens\, 6 Cadle street\, Dandenong\, VIC\, 3175\, Australia
GEO:-37.9877782;145.2100791
X-APPLE-STRUCTURED-LOCATION;VALUE=URI;X-ADDRESS=Vespertine Gardens 6 Cadle street Dandenong VIC 3175 Australia;X-APPLE-RADIUS=500;X-TITLE=6 Cadle street:geo:145.2100791,-37.9877782
END:VEVENT
END:VCALENDAR